Package: diffHic Version: 1.39.1 Command: chmod a+r diffHic -R && E:\biocbuild\bbs-3.21-bioc\R\bin\R.exe CMD build --keep-empty-dirs --no-resave-data diffHic StartedAt: 2025-02-12 18:25:03 -0500 (Wed, 12 Feb 2025) EndedAt: 2025-02-12 18:27:25 -0500 (Wed, 12 Feb 2025) EllapsedTime: 142.1 seconds RetCode: 0 Status: OK PackageFile: diffHic_1.39.1.tar.gz PackageFileSize: 1.44 MiB