Package: diffHic Version: 1.39.1 Command: E:\biocbuild\bbs-3.21-bioc\R\bin\R.exe CMD check --no-multiarch --install=check:diffHic.install-out.txt --library=E:\biocbuild\bbs-3.21-bioc\R\library --no-vignettes --timings diffHic_1.39.1.tar.gz StartedAt: 2025-02-13 00:42:16 -0500 (Thu, 13 Feb 2025) EndedAt: 2025-02-13 00:50:06 -0500 (Thu, 13 Feb 2025) EllapsedTime: 470.8 seconds RetCode: 0 Status: OK CheckDir: diffHic.Rcheck Warnings: 0