Package: diffcoexp Version: 1.27.0 Command: /Library/Frameworks/R.framework/Resources/bin/R CMD build --keep-empty-dirs --no-resave-data diffcoexp StartedAt: 2025-02-09 16:08:13 -0500 (Sun, 09 Feb 2025) EndedAt: 2025-02-09 16:08:31 -0500 (Sun, 09 Feb 2025) EllapsedTime: 18.2 seconds RetCode: 0 Status: OK PackageFile: diffcoexp_1.27.0.tar.gz PackageFileSize: 294.1 KiB