Package: diffcoexp Version: 1.27.0 Command: /Library/Frameworks/R.framework/Resources/bin/R CMD build --keep-empty-dirs --no-resave-data diffcoexp StartedAt: 2025-02-12 16:31:45 -0500 (Wed, 12 Feb 2025) EndedAt: 2025-02-12 16:32:38 -0500 (Wed, 12 Feb 2025) EllapsedTime: 52.4 seconds RetCode: 0 Status: OK PackageFile: diffcoexp_1.27.0.tar.gz PackageFileSize: 294.2 KiB