Package: diffcoexp Version: 1.27.0 Command: /Library/Frameworks/R.framework/Resources/bin/R CMD INSTALL diffcoexp StartedAt: 2025-02-12 15:35:08 -0500 (Wed, 12 Feb 2025) EndedAt: 2025-02-12 15:35:46 -0500 (Wed, 12 Feb 2025) EllapsedTime: 38.2 seconds RetCode: 0 Status: OK