Package: diffcyt Version: 1.27.3 Maintainer: Lukas M. Weber MaintainerEmail: lmweb012 at gmail.com git_url: https://git.bioconductor.org/packages/diffcyt git_branch: devel git_last_commit: a4da914 git_last_commit_date: 2025-02-08 13:17:17 -0500 (Sat, 08 Feb 2025)