Package: diffcyt Version: 1.27.3 Command: /Library/Frameworks/R.framework/Resources/bin/R CMD build --keep-empty-dirs --no-resave-data diffcyt StartedAt: 2025-02-09 16:08:18 -0500 (Sun, 09 Feb 2025) EndedAt: 2025-02-09 16:09:03 -0500 (Sun, 09 Feb 2025) EllapsedTime: 44.5 seconds RetCode: 0 Status: OK PackageFile: diffcyt_1.27.3.tar.gz PackageFileSize: 855.7 KiB