Package: diffcyt Version: 1.27.3 Command: rm -rf diffcyt.buildbin-libdir && mkdir diffcyt.buildbin-libdir && /Users/biocbuild/BBS/utils/build-universal.sh diffcyt_1.27.3.tar.gz /Library/Frameworks/R.framework/Resources/bin/R diffcyt.buildbin-libdir StartedAt: 2025-02-10 00:50:41 -0500 (Mon, 10 Feb 2025) EndedAt: 2025-02-10 00:51:26 -0500 (Mon, 10 Feb 2025) EllapsedTime: 45.1 seconds RetCode: 0 Status: OK PackageFile: diffcyt_1.27.3.tgz PackageFileSize: 863.9 KiB