Package: diffcyt Version: 1.27.3 Command: /Library/Frameworks/R.framework/Resources/bin/R CMD check --install=check:diffcyt.install-out.txt --library=/Library/Frameworks/R.framework/Resources/library --no-vignettes --timings diffcyt_1.27.3.tar.gz StartedAt: 2025-02-12 20:07:49 -0500 (Wed, 12 Feb 2025) EndedAt: 2025-02-12 20:12:22 -0500 (Wed, 12 Feb 2025) EllapsedTime: 272.6 seconds RetCode: 0 Status: OK CheckDir: diffcyt.Rcheck Warnings: 0