Package: diffcyt Version: 1.27.3 Command: rm -rf diffcyt.buildbin-libdir && mkdir diffcyt.buildbin-libdir && E:\biocbuild\bbs-3.21-bioc\R\bin\R.exe CMD INSTALL --build --library=diffcyt.buildbin-libdir diffcyt_1.27.3.tar.gz StartedAt: 2025-02-10 07:37:54 -0500 (Mon, 10 Feb 2025) EndedAt: 2025-02-10 07:38:34 -0500 (Mon, 10 Feb 2025) EllapsedTime: 39.5 seconds RetCode: 0 Status: OK PackageFile: diffcyt_1.27.3.zip PackageFileSize: 685.9 KiB