Package: diffcyt Version: 1.27.3 Command: chmod a+r diffcyt -R && E:\biocbuild\bbs-3.21-bioc\R\bin\R.exe CMD build --keep-empty-dirs --no-resave-data diffcyt StartedAt: 2025-02-09 18:21:28 -0500 (Sun, 09 Feb 2025) EndedAt: 2025-02-09 18:25:41 -0500 (Sun, 09 Feb 2025) EllapsedTime: 252.6 seconds RetCode: 0 Status: OK PackageFile: diffcyt_1.27.3.tar.gz PackageFileSize: 671.9 KiB