Package: diffuStats Version: 1.27.0 Command: /Library/Frameworks/R.framework/Resources/bin/R CMD check --install=check:diffuStats.install-out.txt --library=/Library/Frameworks/R.framework/Resources/library --no-vignettes --timings diffuStats_1.27.0.tar.gz StartedAt: 2025-02-09 18:58:27 -0500 (Sun, 09 Feb 2025) EndedAt: 2025-02-09 18:58:56 -0500 (Sun, 09 Feb 2025) EllapsedTime: 29.3 seconds RetCode: 0 Status: OK CheckDir: diffuStats.Rcheck Warnings: 0