Package: diffuStats Version: 1.27.0 Command: rm -rf diffuStats.buildbin-libdir && mkdir diffuStats.buildbin-libdir && /Users/biocbuild/BBS/utils/build-universal.sh diffuStats_1.27.0.tar.gz /Library/Frameworks/R.framework/Resources/bin/R diffuStats.buildbin-libdir StartedAt: 2025-02-10 00:50:43 -0500 (Mon, 10 Feb 2025) EndedAt: 2025-02-10 00:51:18 -0500 (Mon, 10 Feb 2025) EllapsedTime: 34.6 seconds RetCode: 0 Status: OK PackageFile: diffuStats_1.27.0.tgz PackageFileSize: 1.436 MiB