Package: diffuStats Version: 1.27.0 Command: /Library/Frameworks/R.framework/Resources/bin/R CMD INSTALL diffuStats StartedAt: 2025-02-09 15:08:44 -0500 (Sun, 09 Feb 2025) EndedAt: 2025-02-09 15:09:20 -0500 (Sun, 09 Feb 2025) EllapsedTime: 35.2 seconds RetCode: 0 Status: OK