Package: diffuStats Version: 1.27.0 Command: /home/biocbuild/bbs-3.21-bioc/R/bin/R CMD check --install=check:diffuStats.install-out.txt --library=/home/biocbuild/bbs-3.21-bioc/R/site-library --timings diffuStats_1.27.0.tar.gz StartedAt: 2025-02-09 21:47:23 -0500 (Sun, 09 Feb 2025) EndedAt: 2025-02-09 21:48:50 -0500 (Sun, 09 Feb 2025) EllapsedTime: 87.0 seconds RetCode: 0 Status: OK CheckDir: diffuStats.Rcheck Warnings: 0