Package: diffuStats Version: 1.27.0 Command: /home/biocbuild/bbs-3.21-bioc/R/bin/R CMD INSTALL diffuStats StartedAt: 2025-02-12 15:08:36 -0500 (Wed, 12 Feb 2025) EndedAt: 2025-02-12 15:09:08 -0500 (Wed, 12 Feb 2025) EllapsedTime: 32.0 seconds RetCode: 0 Status: OK