Package: diffuStats Version: 1.27.0 Command: E:\biocbuild\bbs-3.21-bioc\R\bin\R.exe CMD check --no-multiarch --install=check:diffuStats.install-out.txt --library=E:\biocbuild\bbs-3.21-bioc\R\library --no-vignettes --timings diffuStats_1.27.0.tar.gz StartedAt: 2025-02-10 00:32:32 -0500 (Mon, 10 Feb 2025) EndedAt: 2025-02-10 00:34:13 -0500 (Mon, 10 Feb 2025) EllapsedTime: 100.8 seconds RetCode: 0 Status: OK CheckDir: diffuStats.Rcheck Warnings: 0