Package: dinoR Version: 1.3.0 Command: rm -rf dinoR.buildbin-libdir && mkdir dinoR.buildbin-libdir && /Users/biocbuild/BBS/utils/build-universal.sh dinoR_1.3.0.tar.gz /Library/Frameworks/R.framework/Resources/bin/R dinoR.buildbin-libdir StartedAt: 2025-02-10 00:50:49 -0500 (Mon, 10 Feb 2025) EndedAt: 2025-02-10 00:51:27 -0500 (Mon, 10 Feb 2025) EllapsedTime: 38.2 seconds RetCode: 0 Status: OK PackageFile: dinoR_1.3.0.tgz PackageFileSize: 3.086 MiB