Package: dinoR Version: 1.3.0 Command: /Library/Frameworks/R.framework/Resources/bin/R CMD build --keep-empty-dirs --no-resave-data dinoR StartedAt: 2025-02-12 16:33:04 -0500 (Wed, 12 Feb 2025) EndedAt: 2025-02-12 16:34:28 -0500 (Wed, 12 Feb 2025) EllapsedTime: 83.4 seconds RetCode: 0 Status: OK PackageFile: dinoR_1.3.0.tar.gz PackageFileSize: 3.239 MiB