Package: dinoR Version: 1.3.0 Command: /home/biocbuild/bbs-3.21-bioc/R/bin/R CMD INSTALL dinoR StartedAt: 2025-02-09 15:20:24 -0500 (Sun, 09 Feb 2025) EndedAt: 2025-02-09 15:20:51 -0500 (Sun, 09 Feb 2025) EllapsedTime: 27.4 seconds RetCode: 0 Status: OK