Package: dinoR Version: 1.3.0 Command: rm -rf dinoR.buildbin-libdir && mkdir dinoR.buildbin-libdir && E:\biocbuild\bbs-3.21-bioc\R\bin\R.exe CMD INSTALL --build --library=dinoR.buildbin-libdir dinoR_1.3.0.tar.gz StartedAt: 2025-02-10 07:38:12 -0500 (Mon, 10 Feb 2025) EndedAt: 2025-02-10 07:38:44 -0500 (Mon, 10 Feb 2025) EllapsedTime: 32.0 seconds RetCode: 0 Status: OK PackageFile: dinoR_1.3.0.zip PackageFileSize: 2.65 MiB