Package: dinoR Version: 1.3.0 Command: chmod a+r dinoR -R && E:\biocbuild\bbs-3.21-bioc\R\bin\R.exe CMD build --keep-empty-dirs --no-resave-data dinoR StartedAt: 2025-02-09 18:23:29 -0500 (Sun, 09 Feb 2025) EndedAt: 2025-02-09 18:24:46 -0500 (Sun, 09 Feb 2025) EllapsedTime: 76.7 seconds RetCode: 0 Status: OK PackageFile: dinoR_1.3.0.tar.gz PackageFileSize: 2.798 MiB