Package: discordant Version: 1.31.0 Command: rm -rf discordant.buildbin-libdir && mkdir discordant.buildbin-libdir && /Users/biocbuild/BBS/utils/build-universal.sh discordant_1.31.0.tar.gz /Library/Frameworks/R.framework/Resources/bin/R discordant.buildbin-libdir StartedAt: 2025-02-09 22:12:33 -0500 (Sun, 09 Feb 2025) EndedAt: 2025-02-09 22:12:38 -0500 (Sun, 09 Feb 2025) EllapsedTime: 5.1 seconds RetCode: 0 Status: OK PackageFile: discordant_1.31.0.tgz PackageFileSize: 550.9 KiB