Package: discordant Version: 1.31.0 Command: /home/biocbuild/R/R/bin/R CMD build --keep-empty-dirs --no-resave-data discordant StartedAt: 2025-01-28 22:30:08 -0000 (Tue, 28 Jan 2025) EndedAt: 2025-01-28 22:31:02 -0000 (Tue, 28 Jan 2025) EllapsedTime: 54.0 seconds RetCode: 0 Status: OK PackageFile: discordant_1.31.0.tar.gz PackageFileSize: 542.8 KiB