Package: discordant Version: 1.31.0 Command: /home/biocbuild/R/R/bin/R CMD check --install=check:discordant.install-out.txt --library=/home/biocbuild/R/R/site-library --no-vignettes --timings discordant_1.31.0.tar.gz StartedAt: 2025-01-28 10:01:11 -0000 (Tue, 28 Jan 2025) EndedAt: 2025-01-28 10:01:56 -0000 (Tue, 28 Jan 2025) EllapsedTime: 45.0 seconds RetCode: 0 Status: OK CheckDir: discordant.Rcheck Warnings: 0