Package: discordant Version: 1.31.0 Command: rm -rf discordant.buildbin-libdir && mkdir discordant.buildbin-libdir && /Users/biocbuild/BBS/utils/build-universal.sh discordant_1.31.0.tar.gz /Library/Frameworks/R.framework/Resources/bin/R discordant.buildbin-libdir StartedAt: 2025-02-10 00:50:51 -0500 (Mon, 10 Feb 2025) EndedAt: 2025-02-10 00:51:10 -0500 (Mon, 10 Feb 2025) EllapsedTime: 18.4 seconds RetCode: 0 Status: OK PackageFile: discordant_1.31.0.tgz PackageFileSize: 553.4 KiB