Package: discordant Version: 1.31.0 Command: /Library/Frameworks/R.framework/Resources/bin/R CMD build --keep-empty-dirs --no-resave-data discordant StartedAt: 2025-02-09 16:35:13 -0500 (Sun, 09 Feb 2025) EndedAt: 2025-02-09 16:35:58 -0500 (Sun, 09 Feb 2025) EllapsedTime: 45.7 seconds RetCode: 0 Status: OK PackageFile: discordant_1.31.0.tar.gz PackageFileSize: 475.5 KiB