Package: discordant Version: 1.31.0 Command: /Library/Frameworks/R.framework/Resources/bin/R CMD INSTALL discordant StartedAt: 2025-02-09 15:07:25 -0500 (Sun, 09 Feb 2025) EndedAt: 2025-02-09 15:08:02 -0500 (Sun, 09 Feb 2025) EllapsedTime: 36.6 seconds RetCode: 0 Status: OK