Package: discordant Version: 1.31.0 Command: /home/biocbuild/bbs-3.21-bioc/R/bin/R CMD check --install=check:discordant.install-out.txt --library=/home/biocbuild/bbs-3.21-bioc/R/site-library --timings discordant_1.31.0.tar.gz StartedAt: 2025-02-09 21:49:58 -0500 (Sun, 09 Feb 2025) EndedAt: 2025-02-09 21:51:04 -0500 (Sun, 09 Feb 2025) EllapsedTime: 66.1 seconds RetCode: 0 Status: OK CheckDir: discordant.Rcheck Warnings: 0