Package: discordant Version: 1.31.0 Command: /home/biocbuild/bbs-3.21-bioc/R/bin/R CMD INSTALL discordant StartedAt: 2025-02-09 15:12:46 -0500 (Sun, 09 Feb 2025) EndedAt: 2025-02-09 15:12:58 -0500 (Sun, 09 Feb 2025) EllapsedTime: 11.7 seconds RetCode: 0 Status: OK