Package: discordant Version: 1.31.0 Command: rm -rf discordant.buildbin-libdir && mkdir discordant.buildbin-libdir && E:\biocbuild\bbs-3.21-bioc\R\bin\R.exe CMD INSTALL --build --library=discordant.buildbin-libdir discordant_1.31.0.tar.gz StartedAt: 2025-02-04 07:51:52 -0500 (Tue, 04 Feb 2025) EndedAt: 2025-02-04 07:52:18 -0500 (Tue, 04 Feb 2025) EllapsedTime: 25.6 seconds RetCode: 0 Status: OK PackageFile: discordant_1.31.0.zip PackageFileSize: 865.7 KiB