Package: distinct Version: 1.19.0 Command: rm -rf distinct.buildbin-libdir && mkdir distinct.buildbin-libdir && /Users/biocbuild/BBS/utils/build-universal.sh distinct_1.19.0.tar.gz /Library/Frameworks/R.framework/Resources/bin/R distinct.buildbin-libdir StartedAt: 2025-02-09 22:12:33 -0500 (Sun, 09 Feb 2025) EndedAt: 2025-02-09 22:12:56 -0500 (Sun, 09 Feb 2025) EllapsedTime: 23.4 seconds RetCode: 0 Status: OK PackageFile: distinct_1.19.0.tgz PackageFileSize: 2.015 MiB