Package: distinct Version: 1.19.0 Command: /Library/Frameworks/R.framework/Resources/bin/R CMD INSTALL distinct StartedAt: 2025-02-03 16:00:03 -0500 (Mon, 03 Feb 2025) EndedAt: 2025-02-03 16:00:23 -0500 (Mon, 03 Feb 2025) EllapsedTime: 20.7 seconds RetCode: 0 Status: OK