Package: distinct Version: 1.19.0 Command: rm -rf distinct.buildbin-libdir && mkdir distinct.buildbin-libdir && /Users/biocbuild/BBS/utils/build-universal.sh distinct_1.19.0.tar.gz /Library/Frameworks/R.framework/Resources/bin/R distinct.buildbin-libdir StartedAt: 2025-02-10 00:50:53 -0500 (Mon, 10 Feb 2025) EndedAt: 2025-02-10 00:52:17 -0500 (Mon, 10 Feb 2025) EllapsedTime: 83.2 seconds RetCode: 0 Status: OK PackageFile: distinct_1.19.0.tgz PackageFileSize: 2.022 MiB