Package: distinct Version: 1.19.0 Command: chmod a+r distinct -R && E:\biocbuild\bbs-3.21-bioc\R\bin\R.exe CMD build --keep-empty-dirs --no-resave-data distinct StartedAt: 2025-02-09 18:24:11 -0500 (Sun, 09 Feb 2025) EndedAt: 2025-02-09 18:28:25 -0500 (Sun, 09 Feb 2025) EllapsedTime: 253.9 seconds RetCode: 0 Status: OK PackageFile: distinct_1.19.0.tar.gz PackageFileSize: 1.468 MiB