Package: divergence Version: 1.23.0 Command: /Library/Frameworks/R.framework/Resources/bin/R CMD build --keep-empty-dirs --no-resave-data divergence StartedAt: 2025-02-12 16:10:25 -0500 (Wed, 12 Feb 2025) EndedAt: 2025-02-12 16:10:48 -0500 (Wed, 12 Feb 2025) EllapsedTime: 23.3 seconds RetCode: 0 Status: OK PackageFile: divergence_1.23.0.tar.gz PackageFileSize: 2.072 MiB