Package: divergence Version: 1.23.0 Command: E:\biocbuild\bbs-3.21-bioc\R\bin\R.exe CMD check --no-multiarch --install=check:divergence.install-out.txt --library=E:\biocbuild\bbs-3.21-bioc\R\library --no-vignettes --timings divergence_1.23.0.tar.gz StartedAt: 2025-02-13 00:44:29 -0500 (Thu, 13 Feb 2025) EndedAt: 2025-02-13 00:48:03 -0500 (Thu, 13 Feb 2025) EllapsedTime: 214.1 seconds RetCode: 0 Status: OK CheckDir: divergence.Rcheck Warnings: 0