Package: dks Version: 1.53.0 Command: rm -rf dks.buildbin-libdir && mkdir dks.buildbin-libdir && /Users/biocbuild/BBS/utils/build-universal.sh dks_1.53.0.tar.gz /Library/Frameworks/R.framework/Resources/bin/R dks.buildbin-libdir StartedAt: 2025-02-04 22:14:26 -0500 (Tue, 04 Feb 2025) EndedAt: 2025-02-04 22:14:28 -0500 (Tue, 04 Feb 2025) EllapsedTime: 2.0 seconds RetCode: 0 Status: OK PackageFile: dks_1.53.0.tgz PackageFileSize: 620.8 KiB