Package: dks Version: 1.53.0 Command: /Library/Frameworks/R.framework/Resources/bin/R CMD build --keep-empty-dirs --no-resave-data dks StartedAt: 2025-02-04 16:10:23 -0500 (Tue, 04 Feb 2025) EndedAt: 2025-02-04 16:10:28 -0500 (Tue, 04 Feb 2025) EllapsedTime: 5.1 seconds RetCode: 0 Status: OK PackageFile: dks_1.53.0.tar.gz PackageFileSize: 601.2 KiB