Package: dks Version: 1.53.0 Command: /Library/Frameworks/R.framework/Resources/bin/R CMD INSTALL dks StartedAt: 2025-02-04 15:01:52 -0500 (Tue, 04 Feb 2025) EndedAt: 2025-02-04 15:02:04 -0500 (Tue, 04 Feb 2025) EllapsedTime: 12.0 seconds RetCode: 0 Status: OK