Package: dks Version: 1.53.0 Command: /home/biocbuild/R/R/bin/R CMD build --keep-empty-dirs --no-resave-data dks StartedAt: 2025-01-28 22:31:02 -0000 (Tue, 28 Jan 2025) EndedAt: 2025-01-28 22:31:12 -0000 (Tue, 28 Jan 2025) EllapsedTime: 10.0 seconds RetCode: 0 Status: OK PackageFile: dks_1.53.0.tar.gz PackageFileSize: 606.9 KiB