Package: dks Version: 1.53.0 Command: /home/biocbuild/R/R/bin/R CMD INSTALL dks StartedAt: 2025-01-29 19:31:14 -0000 (Wed, 29 Jan 2025) EndedAt: 2025-01-29 19:31:16 -0000 (Wed, 29 Jan 2025) EllapsedTime: 2.1 seconds RetCode: 0 Status: OK