Package: dks Version: 1.53.0 Command: /Library/Frameworks/R.framework/Resources/bin/R CMD check --install=check:dks.install-out.txt --library=/Library/Frameworks/R.framework/Resources/library --no-vignettes --timings dks_1.53.0.tar.gz StartedAt: 2025-02-04 20:10:12 -0500 (Tue, 04 Feb 2025) EndedAt: 2025-02-04 20:10:47 -0500 (Tue, 04 Feb 2025) EllapsedTime: 34.4 seconds RetCode: 0 Status: OK CheckDir: dks.Rcheck Warnings: 0