Package: dks Version: 1.53.0 Command: /home/biocbuild/bbs-3.21-bioc/R/bin/R CMD build --keep-empty-dirs --no-resave-data dks StartedAt: 2025-02-04 17:00:38 -0500 (Tue, 04 Feb 2025) EndedAt: 2025-02-04 17:00:46 -0500 (Tue, 04 Feb 2025) EllapsedTime: 8.0 seconds RetCode: 0 Status: OK PackageFile: dks_1.53.0.tar.gz PackageFileSize: 601 KiB