Package: dks Version: 1.53.0 Command: /home/biocbuild/bbs-3.21-bioc/R/bin/R CMD check --install=check:dks.install-out.txt --library=/home/biocbuild/bbs-3.21-bioc/R/site-library --timings dks_1.53.0.tar.gz StartedAt: 2025-02-04 21:49:18 -0500 (Tue, 04 Feb 2025) EndedAt: 2025-02-04 21:49:45 -0500 (Tue, 04 Feb 2025) EllapsedTime: 27.0 seconds RetCode: 0 Status: OK CheckDir: dks.Rcheck Warnings: 0