Package: dks Version: 1.53.0 Command: /home/biocbuild/bbs-3.21-bioc/R/bin/R CMD INSTALL dks StartedAt: 2025-02-04 15:01:27 -0500 (Tue, 04 Feb 2025) EndedAt: 2025-02-04 15:01:31 -0500 (Tue, 04 Feb 2025) EllapsedTime: 4.1 seconds RetCode: 0 Status: OK