Package: dks Version: 1.53.0 Command: rm -rf dks.buildbin-libdir && mkdir dks.buildbin-libdir && E:\biocbuild\bbs-3.21-bioc\R\bin\R.exe CMD INSTALL --build --library=dks.buildbin-libdir dks_1.53.0.tar.gz StartedAt: 2025-02-05 07:50:19 -0500 (Wed, 05 Feb 2025) EndedAt: 2025-02-05 07:50:26 -0500 (Wed, 05 Feb 2025) EllapsedTime: 6.8 seconds RetCode: 0 Status: OK PackageFile: dks_1.53.0.zip PackageFileSize: 456.1 KiB