Package: dks Version: 1.53.0 Command: chmod a+r dks -R && E:\biocbuild\bbs-3.21-bioc\R\bin\R.exe CMD build --keep-empty-dirs --no-resave-data dks StartedAt: 2025-02-04 18:25:15 -0500 (Tue, 04 Feb 2025) EndedAt: 2025-02-04 18:25:33 -0500 (Tue, 04 Feb 2025) EllapsedTime: 18.0 seconds RetCode: 0 Status: OK PackageFile: dks_1.53.0.tar.gz PackageFileSize: 433.5 KiB