Package: dks Version: 1.53.0 Command: E:\biocbuild\bbs-3.21-bioc\R\bin\R.exe CMD check --no-multiarch --install=check:dks.install-out.txt --library=E:\biocbuild\bbs-3.21-bioc\R\library --no-vignettes --timings dks_1.53.0.tar.gz StartedAt: 2025-02-05 01:02:40 -0500 (Wed, 05 Feb 2025) EndedAt: 2025-02-05 01:03:13 -0500 (Wed, 05 Feb 2025) EllapsedTime: 32.7 seconds RetCode: 0 Status: OK CheckDir: dks.Rcheck Warnings: 0