Package: dmrseq Version: 1.27.0 Command: /Library/Frameworks/R.framework/Resources/bin/R CMD INSTALL dmrseq StartedAt: 2025-02-09 15:12:55 -0500 (Sun, 09 Feb 2025) EndedAt: 2025-02-09 15:13:15 -0500 (Sun, 09 Feb 2025) EllapsedTime: 20.7 seconds RetCode: 0 Status: OK